BEGIN:VCALENDAR
VERSION:2.0
PRODID:-//Académie Culturelle de Laval - ECPv6.15.20//NONSGML v1.0//EN
CALSCALE:GREGORIAN
METHOD:PUBLISH
X-ORIGINAL-URL:https://ecoleacl.ca
X-WR-CALDESC:Évènements pour Académie Culturelle de Laval
REFRESH-INTERVAL;VALUE=DURATION:PT1H
X-Robots-Tag:noindex
X-PUBLISHED-TTL:PT1H
BEGIN:VTIMEZONE
TZID:UTC
BEGIN:STANDARD
TZOFFSETFROM:+0000
TZOFFSETTO:+0000
TZNAME:UTC
DTSTART:20180101T000000
END:STANDARD
END:VTIMEZONE
BEGIN:VEVENT
DTSTART;VALUE=DATE:20190417
DTEND;VALUE=DATE:20190418
DTSTAMP:20260420T140710
CREATED:20170203T174108Z
LAST-MODIFIED:20180915T003056Z
UID:195-1555459200-1555545599@ecoleacl.ca
SUMMARY:Concours Mathématica
DESCRIPTION:Concours Mathématica
URL:https://ecoleacl.ca/event/concours-mathematica/
LOCATION:Notre École
CATEGORIES:École ACL
ATTACH;FMTTYPE=image/jpeg:https://ecoleacl.ca/wp-content/uploads/2017/02/event-03.jpg
END:VEVENT
BEGIN:VEVENT
DTSTART;VALUE=DATE:20190418
DTEND;VALUE=DATE:20190419
DTSTAMP:20260420T140710
CREATED:20170208T174325Z
LAST-MODIFIED:20190417T130915Z
UID:193-1555545600-1555631999@ecoleacl.ca
SUMMARY:EXPO ARTS
DESCRIPTION:EXPO ARTS
URL:https://ecoleacl.ca/event/expo-arts/
LOCATION:Notre École
CATEGORIES:École ACL
ATTACH;FMTTYPE=image/jpeg:https://ecoleacl.ca/wp-content/uploads/2017/02/event-01.jpg
END:VEVENT
END:VCALENDAR